BEGIN:VCALENDAR
VERSION:2.0
PRODID:-//Colegio Margarita Naseau - ECPv6.0.11//NONSGML v1.0//EN
CALSCALE:GREGORIAN
METHOD:PUBLISH
X-ORIGINAL-URL:https://colegiomn.cl
X-WR-CALDESC:Eventos para Colegio Margarita Naseau
REFRESH-INTERVAL;VALUE=DURATION:PT1H
X-Robots-Tag:noindex
X-PUBLISHED-TTL:PT1H
BEGIN:VTIMEZONE
TZID:America/Santiago
BEGIN:STANDARD
TZOFFSETFROM:-0300
TZOFFSETTO:-0400
TZNAME:-04
DTSTART:20250406T030000
END:STANDARD
BEGIN:DAYLIGHT
TZOFFSETFROM:-0400
TZOFFSETTO:-0300
TZNAME:-03
DTSTART:20250907T040000
END:DAYLIGHT
END:VTIMEZONE
BEGIN:VEVENT
DTSTART;TZID=America/Santiago:20250707T080000
DTEND;TZID=America/Santiago:20250707T083000
DTSTAMP:20260424T104430
CREATED:20250708T113617Z
LAST-MODIFIED:20250708T113617Z
UID:5792-1751875200-1751877000@colegiomn.cl
SUMMARY:Oración 5° Básico B (Asiste 2° ciclo)
DESCRIPTION:
URL:https://colegiomn.cl/event/oracion-5-basico-b-asiste-2-ciclo/
LOCATION:Colegio Margarita Naseau\, Riquelme #1211\, Tomé
END:VEVENT
BEGIN:VEVENT
DTSTART;TZID=America/Santiago:20250707T140000
DTEND;TZID=America/Santiago:20250707T143000
DTSTAMP:20260424T104430
CREATED:20250708T113651Z
LAST-MODIFIED:20250708T113651Z
UID:5794-1751896800-1751898600@colegiomn.cl
SUMMARY:Oración 1° Básico B
DESCRIPTION:
URL:https://colegiomn.cl/event/oracion-1-basico-b-3/
LOCATION:Colegio Margarita Naseau\, Riquelme #1211\, Tomé
END:VEVENT
END:VCALENDAR