BEGIN:VCALENDAR
VERSION:2.0
PRODID:-//Colegio Margarita Naseau - ECPv6.0.11//NONSGML v1.0//EN
CALSCALE:GREGORIAN
METHOD:PUBLISH
X-ORIGINAL-URL:https://colegiomn.cl
X-WR-CALDESC:Eventos para Colegio Margarita Naseau
REFRESH-INTERVAL;VALUE=DURATION:PT1H
X-Robots-Tag:noindex
X-PUBLISHED-TTL:PT1H
BEGIN:VTIMEZONE
TZID:America/Santiago
BEGIN:STANDARD
TZOFFSETFROM:-0300
TZOFFSETTO:-0400
TZNAME:-04
DTSTART:20250406T030000
END:STANDARD
BEGIN:DAYLIGHT
TZOFFSETFROM:-0400
TZOFFSETTO:-0300
TZNAME:-03
DTSTART:20250907T040000
END:DAYLIGHT
END:VTIMEZONE
BEGIN:VEVENT
DTSTART;TZID=America/Santiago:20250730T083000
DTEND;TZID=America/Santiago:20250730T130000
DTSTAMP:20260424T093026
CREATED:20250708T114330Z
LAST-MODIFIED:20250708T114330Z
UID:5810-1753864200-1753880400@colegiomn.cl
SUMMARY:Encuentro Vicentino II° Medio A
DESCRIPTION:
URL:https://colegiomn.cl/event/encuentro-vicentino-ii-medio-a/
LOCATION:Hogar Villa Nazareth\, Tomé\, Chile
END:VEVENT
END:VCALENDAR