BEGIN:VCALENDAR
VERSION:2.0
PRODID:-//Colegio Margarita Naseau - ECPv6.0.11//NONSGML v1.0//EN
CALSCALE:GREGORIAN
METHOD:PUBLISH
X-WR-CALNAME:Colegio Margarita Naseau
X-ORIGINAL-URL:https://colegiomn.cl
X-WR-CALDESC:Eventos para Colegio Margarita Naseau
REFRESH-INTERVAL;VALUE=DURATION:PT1H
X-Robots-Tag:noindex
X-PUBLISHED-TTL:PT1H
BEGIN:VTIMEZONE
TZID:America/Santiago
BEGIN:STANDARD
TZOFFSETFROM:-0300
TZOFFSETTO:-0400
TZNAME:-04
DTSTART:20250406T030000
END:STANDARD
BEGIN:DAYLIGHT
TZOFFSETFROM:-0400
TZOFFSETTO:-0300
TZNAME:-03
DTSTART:20250907T040000
END:DAYLIGHT
END:VTIMEZONE
BEGIN:VEVENT
DTSTART;VALUE=DATE:20251020
DTEND;VALUE=DATE:20251025
DTSTAMP:20260424T064134
CREATED:20250924T121807Z
LAST-MODIFIED:20250924T121807Z
UID:6068-1760918400-1761350399@colegiomn.cl
SUMMARY:Semana de la Historia
DESCRIPTION:
URL:https://colegiomn.cl/event/semana-de-la-historia-2/
LOCATION:Colegio Margarita Naseau\, Riquelme #1211\, Tomé
END:VEVENT
BEGIN:VEVENT
DTSTART;VALUE=DATE:20251022
DTEND;VALUE=DATE:20251024
DTSTAMP:20260424T064134
CREATED:20250924T121854Z
LAST-MODIFIED:20250924T121854Z
UID:6070-1761091200-1761263999@colegiomn.cl
SUMMARY:SIMCE Octavos Básicos
DESCRIPTION:
URL:https://colegiomn.cl/event/simce-octavos-basicos/
LOCATION:Colegio Margarita Naseau\, Riquelme #1211\, Tomé
END:VEVENT
BEGIN:VEVENT
DTSTART;VALUE=DATE:20251023
DTEND;VALUE=DATE:20251024
DTSTAMP:20260424T064134
CREATED:20250924T121934Z
LAST-MODIFIED:20250924T121934Z
UID:6072-1761177600-1761263999@colegiomn.cl
SUMMARY:Feria Puertas Abiertas UdeC - IV° Medios
DESCRIPTION:
URL:https://colegiomn.cl/event/feria-puertas-abiertas-udec-iv-medios/
END:VEVENT
END:VCALENDAR