BEGIN:VCALENDAR
VERSION:2.0
PRODID:-//Colegio Margarita Naseau - ECPv6.0.11//NONSGML v1.0//EN
CALSCALE:GREGORIAN
METHOD:PUBLISH
X-ORIGINAL-URL:https://colegiomn.cl
X-WR-CALDESC:Eventos para Colegio Margarita Naseau
REFRESH-INTERVAL;VALUE=DURATION:PT1H
X-Robots-Tag:noindex
X-PUBLISHED-TTL:PT1H
BEGIN:VTIMEZONE
TZID:America/Santiago
BEGIN:STANDARD
TZOFFSETFROM:-0300
TZOFFSETTO:-0400
TZNAME:-04
DTSTART:20240407T030000
END:STANDARD
BEGIN:DAYLIGHT
TZOFFSETFROM:-0400
TZOFFSETTO:-0300
TZNAME:-03
DTSTART:20240908T040000
END:DAYLIGHT
END:VTIMEZONE
BEGIN:VEVENT
DTSTART;VALUE=DATE:20241101
DTEND;VALUE=DATE:20241102
DTSTAMP:20260424T231154
CREATED:20240312T122042Z
LAST-MODIFIED:20240312T122042Z
UID:4077-1730419200-1730505599@colegiomn.cl
SUMMARY:Día de Todos Los Santos
DESCRIPTION:
URL:https://colegiomn.cl/event/dia-de-todos-los-santos-3/
END:VEVENT
BEGIN:VEVENT
DTSTART;VALUE=DATE:20241106
DTEND;VALUE=DATE:20241107
DTSTAMP:20260424T231154
CREATED:20240709T122114Z
LAST-MODIFIED:20240709T122114Z
UID:4629-1730851200-1730937599@colegiomn.cl
SUMMARY:SIMCE 4° Básico
DESCRIPTION:
URL:https://colegiomn.cl/event/simce-4-basico/
END:VEVENT
BEGIN:VEVENT
DTSTART;VALUE=DATE:20241107
DTEND;VALUE=DATE:20241108
DTSTAMP:20260424T231154
CREATED:20240709T122143Z
LAST-MODIFIED:20240709T122143Z
UID:4631-1730937600-1731023999@colegiomn.cl
SUMMARY:SIMCE 4° Básico
DESCRIPTION:
URL:https://colegiomn.cl/event/simce-4-basico-2/
END:VEVENT
BEGIN:VEVENT
DTSTART;VALUE=DATE:20241113
DTEND;VALUE=DATE:20241114
DTSTAMP:20260424T231154
CREATED:20240709T122321Z
LAST-MODIFIED:20240709T122321Z
UID:4633-1731456000-1731542399@colegiomn.cl
SUMMARY:SIMCE II° Medios
DESCRIPTION:
URL:https://colegiomn.cl/event/simce-ii-medios/
END:VEVENT
BEGIN:VEVENT
DTSTART;VALUE=DATE:20241114
DTEND;VALUE=DATE:20241115
DTSTAMP:20260424T231154
CREATED:20240709T122345Z
LAST-MODIFIED:20240709T122345Z
UID:4635-1731542400-1731628799@colegiomn.cl
SUMMARY:SIMCE II° Medios
DESCRIPTION:
URL:https://colegiomn.cl/event/simce-ii-medios-2/
END:VEVENT
BEGIN:VEVENT
DTSTART;TZID=America/Santiago:20241119T180000
DTEND;TZID=America/Santiago:20241119T190000
DTSTAMP:20260424T231154
CREATED:20240312T122948Z
LAST-MODIFIED:20240312T122948Z
UID:4091-1732039200-1732042800@colegiomn.cl
SUMMARY:Autocuidado y Pastoral
DESCRIPTION:
URL:https://colegiomn.cl/event/autocuidado-y-pastoral-19/
LOCATION:Colegio Margarita Naseau\, Riquelme #1211\, Tomé
END:VEVENT
BEGIN:VEVENT
DTSTART;TZID=America/Santiago:20241119T180000
DTEND;TZID=America/Santiago:20241119T190000
DTSTAMP:20260424T231154
CREATED:20240709T122539Z
LAST-MODIFIED:20240709T122539Z
UID:4637-1732039200-1732042800@colegiomn.cl
SUMMARY:Salud Mental y Formación Pastoral
DESCRIPTION:
URL:https://colegiomn.cl/event/salud-mental-y-formacion-pastoral-3/
LOCATION:Colegio Margarita Naseau\, Riquelme #1211\, Tomé
END:VEVENT
BEGIN:VEVENT
DTSTART;VALUE=DATE:20241120
DTEND;VALUE=DATE:20241121
DTSTAMP:20260424T231154
CREATED:20240709T122611Z
LAST-MODIFIED:20240709T122611Z
UID:4639-1732060800-1732147199@colegiomn.cl
SUMMARY:Reunión de Apoderados
DESCRIPTION:
URL:https://colegiomn.cl/event/reunion-de-apoderados-19/
END:VEVENT
BEGIN:VEVENT
DTSTART;VALUE=DATE:20241121
DTEND;VALUE=DATE:20241122
DTSTAMP:20260424T231154
CREATED:20240709T122636Z
LAST-MODIFIED:20240709T122636Z
UID:4641-1732147200-1732233599@colegiomn.cl
SUMMARY:Reunión de Apoderados
DESCRIPTION:
URL:https://colegiomn.cl/event/reunion-de-apoderados-20/
LOCATION:Colegio Margarita Naseau\, Riquelme #1211\, Tomé
END:VEVENT
END:VCALENDAR