BEGIN:VCALENDAR
VERSION:2.0
PRODID:-//Colegio Margarita Naseau - ECPv6.0.11//NONSGML v1.0//EN
CALSCALE:GREGORIAN
METHOD:PUBLISH
X-ORIGINAL-URL:https://colegiomn.cl
X-WR-CALDESC:Eventos para Colegio Margarita Naseau
REFRESH-INTERVAL;VALUE=DURATION:PT1H
X-Robots-Tag:noindex
X-PUBLISHED-TTL:PT1H
BEGIN:VTIMEZONE
TZID:America/Santiago
BEGIN:STANDARD
TZOFFSETFROM:-0300
TZOFFSETTO:-0400
TZNAME:-04
DTSTART:20250406T030000
END:STANDARD
BEGIN:DAYLIGHT
TZOFFSETFROM:-0400
TZOFFSETTO:-0300
TZNAME:-03
DTSTART:20250907T040000
END:DAYLIGHT
END:VTIMEZONE
BEGIN:VEVENT
DTSTART;VALUE=DATE:20250401
DTEND;VALUE=DATE:20250402
DTSTAMP:20260424T135157
CREATED:20250327T150313Z
LAST-MODIFIED:20250327T150313Z
UID:5445-1743465600-1743551999@colegiomn.cl
SUMMARY:Inicio de Actividades Extraescolares 2025
DESCRIPTION:
URL:https://colegiomn.cl/event/inicio-de-actividades-extraescolares-2025/
END:VEVENT
BEGIN:VEVENT
DTSTART;TZID=America/Santiago:20250401T083000
DTEND;TZID=America/Santiago:20250401T093000
DTSTAMP:20260424T135157
CREATED:20250327T150508Z
LAST-MODIFIED:20250327T150508Z
UID:5447-1743496200-1743499800@colegiomn.cl
SUMMARY:Eucaristía 8° Básico A
DESCRIPTION:
URL:https://colegiomn.cl/event/eucaristia-8-basico-a-2/
LOCATION:Colegio Margarita Naseau\, Riquelme #1211\, Tomé
END:VEVENT
BEGIN:VEVENT
DTSTART;TZID=America/Santiago:20250402T080000
DTEND;TZID=America/Santiago:20250402T130000
DTSTAMP:20260424T135157
CREATED:20250327T151700Z
LAST-MODIFIED:20250327T151700Z
UID:5471-1743580800-1743598800@colegiomn.cl
SUMMARY:Encuentro Vicentino 8° A
DESCRIPTION:
URL:https://colegiomn.cl/event/encuentro-vicentino-8-a/
LOCATION:Hogar Villa Nazareth\, Tomé\, Chile
END:VEVENT
BEGIN:VEVENT
DTSTART;TZID=America/Santiago:20250403T083000
DTEND;TZID=America/Santiago:20250403T093000
DTSTAMP:20260424T135157
CREATED:20250327T151254Z
LAST-MODIFIED:20250327T151254Z
UID:5465-1743669000-1743672600@colegiomn.cl
SUMMARY:Eucaristía IV° Medio B
DESCRIPTION:
URL:https://colegiomn.cl/event/eucaristia-iv-medio-b/
LOCATION:Colegio Margarita Naseau\, Riquelme #1211\, Tomé
END:VEVENT
BEGIN:VEVENT
DTSTART;TZID=America/Santiago:20250404T100000
DTEND;TZID=America/Santiago:20250404T110000
DTSTAMP:20260424T135157
CREATED:20250325T153259Z
LAST-MODIFIED:20250325T153259Z
UID:5426-1743760800-1743764400@colegiomn.cl
SUMMARY:Charla NEM y Ranking (UDLA)/Primeros Medios
DESCRIPTION:
URL:https://colegiomn.cl/event/charla-nem-y-ranking-udla-primeros-medios/
LOCATION:Colegio Margarita Naseau\, Riquelme #1211\, Tomé
END:VEVENT
BEGIN:VEVENT
DTSTART;TZID=America/Santiago:20250407T080000
DTEND;TZID=America/Santiago:20250407T083000
DTSTAMP:20260424T135157
CREATED:20250318T122221Z
LAST-MODIFIED:20250318T122221Z
UID:5362-1744012800-1744014600@colegiomn.cl
SUMMARY:Oración III° Medio A (Asiste Enseñanza Media)
DESCRIPTION:
URL:https://colegiomn.cl/event/oracion-iii-medio-a-asiste-ensenanza-media/
LOCATION:Colegio Margarita Naseau\, Riquelme #1211\, Tomé
END:VEVENT
BEGIN:VEVENT
DTSTART;TZID=America/Santiago:20250407T140000
DTEND;TZID=America/Santiago:20250407T143000
DTSTAMP:20260424T135157
CREATED:20250318T122309Z
LAST-MODIFIED:20250318T122309Z
UID:5364-1744034400-1744036200@colegiomn.cl
SUMMARY:Oración 2° A
DESCRIPTION:
URL:https://colegiomn.cl/event/oracion-2-a/
LOCATION:Colegio Margarita Naseau\, Riquelme #1211\, Tomé
END:VEVENT
BEGIN:VEVENT
DTSTART;TZID=America/Santiago:20250408T083000
DTEND;TZID=America/Santiago:20250408T093000
DTSTAMP:20260424T135157
CREATED:20250327T150619Z
LAST-MODIFIED:20250327T150619Z
UID:5449-1744101000-1744104600@colegiomn.cl
SUMMARY:Eucaristía 8° Básico B
DESCRIPTION:
URL:https://colegiomn.cl/event/eucaristia-8-basico-b/
LOCATION:Colegio Margarita Naseau\, Riquelme #1211\, Tomé
END:VEVENT
BEGIN:VEVENT
DTSTART;TZID=America/Santiago:20250409T080000
DTEND;TZID=America/Santiago:20250409T130000
DTSTAMP:20260424T135157
CREATED:20250327T151804Z
LAST-MODIFIED:20250327T151804Z
UID:5474-1744185600-1744203600@colegiomn.cl
SUMMARY:Encuentro Vicentino 8° B
DESCRIPTION:
URL:https://colegiomn.cl/event/encuentro-vicentino-8-b/
LOCATION:Hogar Villa Nazareth\, Tomé\, Chile
END:VEVENT
BEGIN:VEVENT
DTSTART;TZID=America/Santiago:20250410T103000
DTEND;TZID=America/Santiago:20250410T113000
DTSTAMP:20260424T135157
CREATED:20250325T153409Z
LAST-MODIFIED:20250325T153617Z
UID:5428-1744281000-1744284600@colegiomn.cl
SUMMARY:Charla PAES (UDLA)/Terceros Medios
DESCRIPTION:
URL:https://colegiomn.cl/event/charla-paes-udla-terceros-medios/
LOCATION:Colegio Margarita Naseau\, Riquelme #1211\, Tomé
END:VEVENT
BEGIN:VEVENT
DTSTART;TZID=America/Santiago:20250410T113000
DTEND;TZID=America/Santiago:20250410T123000
DTSTAMP:20260424T135157
CREATED:20250325T153508Z
LAST-MODIFIED:20250325T153508Z
UID:5430-1744284600-1744288200@colegiomn.cl
SUMMARY:Charla PAES e Institucional/Cuartos Medios
DESCRIPTION:
URL:https://colegiomn.cl/event/charla-paes-e-institucional-cuartos-medios/
LOCATION:Colegio Margarita Naseau\, Riquelme #1211\, Tomé
END:VEVENT
BEGIN:VEVENT
DTSTART;VALUE=DATE:20250413
DTEND;VALUE=DATE:20250414
DTSTAMP:20260424T135157
CREATED:20250312T175803Z
LAST-MODIFIED:20250312T175803Z
UID:5326-1744502400-1744588799@colegiomn.cl
SUMMARY:Domingo de Ramos
DESCRIPTION:
URL:https://colegiomn.cl/event/domingo-de-ramos/
END:VEVENT
BEGIN:VEVENT
DTSTART;VALUE=DATE:20250414
DTEND;VALUE=DATE:20250415
DTSTAMP:20260424T135157
CREATED:20250312T175906Z
LAST-MODIFIED:20250312T175906Z
UID:5328-1744588800-1744675199@colegiomn.cl
SUMMARY:Inicio de Semana Santa
DESCRIPTION:
URL:https://colegiomn.cl/event/inicio-de-semana-santa/
END:VEVENT
BEGIN:VEVENT
DTSTART;TZID=America/Santiago:20250414T080000
DTEND;TZID=America/Santiago:20250414T083000
DTSTAMP:20260424T135157
CREATED:20250318T123217Z
LAST-MODIFIED:20250318T123217Z
UID:5366-1744617600-1744619400@colegiomn.cl
SUMMARY:Oración 7° A (Asiste 2° ciclo)
DESCRIPTION:
URL:https://colegiomn.cl/event/oracion-7-a-asiste-2-ciclo/
LOCATION:Colegio Margarita Naseau\, Riquelme #1211\, Tomé
END:VEVENT
BEGIN:VEVENT
DTSTART;TZID=America/Santiago:20250414T140000
DTEND;TZID=America/Santiago:20250414T143000
DTSTAMP:20260424T135157
CREATED:20250318T123546Z
LAST-MODIFIED:20250318T123546Z
UID:5368-1744639200-1744641000@colegiomn.cl
SUMMARY:Oración 2° B
DESCRIPTION:
URL:https://colegiomn.cl/event/oracion-2-b/
LOCATION:Colegio Margarita Naseau\, Riquelme #1211\, Tomé
END:VEVENT
BEGIN:VEVENT
DTSTART;TZID=America/Santiago:20250415T083000
DTEND;TZID=America/Santiago:20250415T093000
DTSTAMP:20260424T135157
CREATED:20250327T150707Z
LAST-MODIFIED:20250327T150707Z
UID:5451-1744705800-1744709400@colegiomn.cl
SUMMARY:Eucaristía 7° Básico A
DESCRIPTION:
URL:https://colegiomn.cl/event/eucaristia-7-basico-a/
LOCATION:Colegio Margarita Naseau\, Riquelme #1211\, Tomé
END:VEVENT
BEGIN:VEVENT
DTSTART;VALUE=DATE:20250417
DTEND;VALUE=DATE:20250418
DTSTAMP:20260424T135157
CREATED:20250318T124438Z
LAST-MODIFIED:20250318T124438Z
UID:5376-1744848000-1744934399@colegiomn.cl
SUMMARY:Finaliza Campaña de Cuaresma
DESCRIPTION:
URL:https://colegiomn.cl/event/finaliza-campana-de-cuaresma/
LOCATION:Colegio Margarita Naseau\, Riquelme #1211\, Tomé
END:VEVENT
BEGIN:VEVENT
DTSTART;VALUE=DATE:20250417
DTEND;VALUE=DATE:20250418
DTSTAMP:20260424T135157
CREATED:20250417T143156Z
LAST-MODIFIED:20250417T143156Z
UID:5559-1744848000-1744934399@colegiomn.cl
SUMMARY:Jueves Santo
DESCRIPTION:
URL:https://colegiomn.cl/event/jueves-santo-3/
LOCATION:Colegio Margarita Naseau\, Riquelme #1211\, Tomé
END:VEVENT
BEGIN:VEVENT
DTSTART;VALUE=DATE:20250418
DTEND;VALUE=DATE:20250419
DTSTAMP:20260424T135157
CREATED:20250417T143211Z
LAST-MODIFIED:20250417T143211Z
UID:5561-1744934400-1745020799@colegiomn.cl
SUMMARY:Viernes Santo
DESCRIPTION:
URL:https://colegiomn.cl/event/viernes-santo-4/
LOCATION:Colegio Margarita Naseau\, Riquelme #1211\, Tomé
END:VEVENT
BEGIN:VEVENT
DTSTART;VALUE=DATE:20250419
DTEND;VALUE=DATE:20250420
DTSTAMP:20260424T135157
CREATED:20250417T143230Z
LAST-MODIFIED:20250417T143230Z
UID:5563-1745020800-1745107199@colegiomn.cl
SUMMARY:Sábado Santo
DESCRIPTION:
URL:https://colegiomn.cl/event/sabado-santo-3/
LOCATION:Colegio Margarita Naseau\, Riquelme #1211\, Tomé
END:VEVENT
BEGIN:VEVENT
DTSTART;VALUE=DATE:20250420
DTEND;VALUE=DATE:20250421
DTSTAMP:20260424T135157
CREATED:20250417T143255Z
LAST-MODIFIED:20250417T143255Z
UID:5565-1745107200-1745193599@colegiomn.cl
SUMMARY:Domingo de Resurrección
DESCRIPTION:
URL:https://colegiomn.cl/event/domingo-de-resurreccion-2/
LOCATION:Colegio Margarita Naseau\, Riquelme #1211\, Tomé
END:VEVENT
BEGIN:VEVENT
DTSTART;TZID=America/Santiago:20250421T080000
DTEND;TZID=America/Santiago:20250421T143000
DTSTAMP:20260424T135157
CREATED:20250318T123705Z
LAST-MODIFIED:20250318T123705Z
UID:5370-1745222400-1745245800@colegiomn.cl
SUMMARY:Oración III° Medio B (Asiste Enseñanza Media)
DESCRIPTION:
URL:https://colegiomn.cl/event/oracion-iii-medio-b-asiste-ensenanza-media/
LOCATION:Colegio Margarita Naseau\, Riquelme #1211\, Tomé
END:VEVENT
BEGIN:VEVENT
DTSTART;TZID=America/Santiago:20250422T083000
DTEND;TZID=America/Santiago:20250422T093000
DTSTAMP:20260424T135157
CREATED:20250327T150747Z
LAST-MODIFIED:20250327T150747Z
UID:5453-1745310600-1745314200@colegiomn.cl
SUMMARY:Eucaristía 7° Básico B
DESCRIPTION:
URL:https://colegiomn.cl/event/eucaristia-7-basico-b/
LOCATION:Colegio Margarita Naseau\, Riquelme #1211\, Tomé
END:VEVENT
BEGIN:VEVENT
DTSTART;TZID=America/Santiago:20250422T180000
DTEND;TZID=America/Santiago:20250422T190000
DTSTAMP:20260424T135157
CREATED:20250318T124524Z
LAST-MODIFIED:20250318T124524Z
UID:5378-1745344800-1745348400@colegiomn.cl
SUMMARY:Salud Mental y Pastoral
DESCRIPTION:
URL:https://colegiomn.cl/event/salud-mental-y-pastoral-2/
LOCATION:Colegio Margarita Naseau\, Riquelme #1211\, Tomé
END:VEVENT
BEGIN:VEVENT
DTSTART;TZID=America/Santiago:20250423T080000
DTEND;TZID=America/Santiago:20250423T130000
DTSTAMP:20260424T135157
CREATED:20250327T151847Z
LAST-MODIFIED:20250327T151847Z
UID:5476-1745395200-1745413200@colegiomn.cl
SUMMARY:Encuentro Vicentino 7° A
DESCRIPTION:
URL:https://colegiomn.cl/event/encuentro-vicentino-7-a/
LOCATION:Hogar Villa Nazareth\, Tomé\, Chile
END:VEVENT
BEGIN:VEVENT
DTSTART;TZID=America/Santiago:20250428T080000
DTEND;TZID=America/Santiago:20250428T083000
DTSTAMP:20260424T135157
CREATED:20250318T124147Z
LAST-MODIFIED:20250318T124147Z
UID:5372-1745827200-1745829000@colegiomn.cl
SUMMARY:Oración 7° B (Asiste 2° ciclo)
DESCRIPTION:
URL:https://colegiomn.cl/event/oracion-7-b-asiste-2-ciclo/
LOCATION:Colegio Margarita Naseau\, Riquelme #1211\, Tomé
END:VEVENT
BEGIN:VEVENT
DTSTART;TZID=America/Santiago:20250428T140000
DTEND;TZID=America/Santiago:20250428T143000
DTSTAMP:20260424T135157
CREATED:20250318T124218Z
LAST-MODIFIED:20250318T124218Z
UID:5374-1745848800-1745850600@colegiomn.cl
SUMMARY:Oración 1° B
DESCRIPTION:
URL:https://colegiomn.cl/event/oracion-1-b/
LOCATION:Colegio Margarita Naseau\, Riquelme #1211\, Tomé
END:VEVENT
BEGIN:VEVENT
DTSTART;TZID=America/Santiago:20250429T083000
DTEND;TZID=America/Santiago:20250429T093000
DTSTAMP:20260424T135157
CREATED:20250327T150828Z
LAST-MODIFIED:20250327T150828Z
UID:5455-1745915400-1745919000@colegiomn.cl
SUMMARY:Eucaristía 6° Básico A
DESCRIPTION:
URL:https://colegiomn.cl/event/eucaristia-6-basico-a/
LOCATION:Colegio Margarita Naseau\, Riquelme #1211\, Tomé
END:VEVENT
BEGIN:VEVENT
DTSTART;TZID=America/Santiago:20250430T080000
DTEND;TZID=America/Santiago:20250430T130000
DTSTAMP:20260424T135157
CREATED:20250327T151946Z
LAST-MODIFIED:20250327T151946Z
UID:5478-1746000000-1746018000@colegiomn.cl
SUMMARY:Encuentro Vicentino 7° B
DESCRIPTION:
URL:https://colegiomn.cl/event/encuentro-vicentino-7-b/
LOCATION:Hogar Villa Nazareth\, Tomé\, Chile
END:VEVENT
END:VCALENDAR