BEGIN:VCALENDAR
VERSION:2.0
PRODID:-//Colegio Margarita Naseau - ECPv6.0.11//NONSGML v1.0//EN
CALSCALE:GREGORIAN
METHOD:PUBLISH
X-WR-CALNAME:Colegio Margarita Naseau
X-ORIGINAL-URL:https://colegiomn.cl
X-WR-CALDESC:Eventos para Colegio Margarita Naseau
REFRESH-INTERVAL;VALUE=DURATION:PT1H
X-Robots-Tag:noindex
X-PUBLISHED-TTL:PT1H
BEGIN:VTIMEZONE
TZID:America/Santiago
BEGIN:STANDARD
TZOFFSETFROM:-0300
TZOFFSETTO:-0400
TZNAME:-04
DTSTART:20250406T030000
END:STANDARD
BEGIN:DAYLIGHT
TZOFFSETFROM:-0400
TZOFFSETTO:-0300
TZNAME:-03
DTSTART:20250907T040000
END:DAYLIGHT
END:VTIMEZONE
BEGIN:VEVENT
DTSTART;TZID=America/Santiago:20250505T080000
DTEND;TZID=America/Santiago:20250505T083000
DTSTAMP:20260424T120033
CREATED:20250318T125235Z
LAST-MODIFIED:20250318T125235Z
UID:5380-1746432000-1746433800@colegiomn.cl
SUMMARY:Oración II° Medio A (Asiste Enseñanza Media)
DESCRIPTION:
URL:https://colegiomn.cl/event/oracion-ii-medio-a-asiste-ensenanza-media/
LOCATION:Colegio Margarita Naseau\, Riquelme #1211\, Tomé
END:VEVENT
BEGIN:VEVENT
DTSTART;TZID=America/Santiago:20250505T140000
DTEND;TZID=America/Santiago:20250505T143000
DTSTAMP:20260424T120033
CREATED:20250318T125358Z
LAST-MODIFIED:20250318T125358Z
UID:5382-1746453600-1746455400@colegiomn.cl
SUMMARY:Oración 4° A
DESCRIPTION:
URL:https://colegiomn.cl/event/oracion-4-a/
LOCATION:Colegio Margarita Naseau\, Riquelme #1211\, Tomé
END:VEVENT
BEGIN:VEVENT
DTSTART;TZID=America/Santiago:20250506T083000
DTEND;TZID=America/Santiago:20250506T093000
DTSTAMP:20260424T120033
CREATED:20250327T150931Z
LAST-MODIFIED:20250327T150931Z
UID:5457-1746520200-1746523800@colegiomn.cl
SUMMARY:Eucaristía 6° Básico B
DESCRIPTION:
URL:https://colegiomn.cl/event/eucaristia-6-basico-b/
LOCATION:Colegio Margarita Naseau\, Riquelme #1211\, Tomé
END:VEVENT
BEGIN:VEVENT
DTSTART;TZID=America/Santiago:20250507T080000
DTEND;TZID=America/Santiago:20250507T130000
DTSTAMP:20260424T120033
CREATED:20250327T152028Z
LAST-MODIFIED:20250327T152028Z
UID:5480-1746604800-1746622800@colegiomn.cl
SUMMARY:Encuentro Vicentino 6° A
DESCRIPTION:
URL:https://colegiomn.cl/event/encuentro-vicentino-6-a/
LOCATION:Hogar Villa Nazareth\, Tomé\, Chile
END:VEVENT
BEGIN:VEVENT
DTSTART;TZID=America/Santiago:20250512T080000
DTEND;TZID=America/Santiago:20250512T083000
DTSTAMP:20260424T120033
CREATED:20250318T125812Z
LAST-MODIFIED:20250318T125812Z
UID:5385-1747036800-1747038600@colegiomn.cl
SUMMARY:Oración 6° A (Asiste 2° ciclo)
DESCRIPTION:
URL:https://colegiomn.cl/event/oracion-6-a-asiste-2-ciclo/
LOCATION:Colegio Margarita Naseau\, Riquelme #1211\, Tomé
END:VEVENT
BEGIN:VEVENT
DTSTART;TZID=America/Santiago:20250512T140000
DTEND;TZID=America/Santiago:20250512T143000
DTSTAMP:20260424T120033
CREATED:20250318T125843Z
LAST-MODIFIED:20250318T125843Z
UID:5387-1747058400-1747060200@colegiomn.cl
SUMMARY:Oración 4° B
DESCRIPTION:
URL:https://colegiomn.cl/event/oracion-4-b/
LOCATION:Colegio Margarita Naseau\, Riquelme #1211\, Tomé
END:VEVENT
BEGIN:VEVENT
DTSTART;TZID=America/Santiago:20250513T083000
DTEND;TZID=America/Santiago:20250513T093000
DTSTAMP:20260424T120033
CREATED:20250327T151028Z
LAST-MODIFIED:20250327T151028Z
UID:5459-1747125000-1747128600@colegiomn.cl
SUMMARY:Eucaristía 5° Básico A
DESCRIPTION:
URL:https://colegiomn.cl/event/eucaristia-5-basico-a/
LOCATION:Colegio Margarita Naseau\, Riquelme #1211\, Tomé
END:VEVENT
BEGIN:VEVENT
DTSTART;TZID=America/Santiago:20250514T080000
DTEND;TZID=America/Santiago:20250514T130000
DTSTAMP:20260424T120033
CREATED:20250327T152104Z
LAST-MODIFIED:20250327T152104Z
UID:5482-1747209600-1747227600@colegiomn.cl
SUMMARY:Encuentro Vicentino 6° B
DESCRIPTION:
URL:https://colegiomn.cl/event/encuentro-vicentino-6-b/
LOCATION:Hogar Villa Nazareth\, Tomé\, Chile
END:VEVENT
BEGIN:VEVENT
DTSTART;VALUE=DATE:20250515
DTEND;VALUE=DATE:20250516
DTSTAMP:20260424T120033
CREATED:20250312T180028Z
LAST-MODIFIED:20250312T180028Z
UID:5330-1747267200-1747353599@colegiomn.cl
SUMMARY:Santa Luisa de Marillac
DESCRIPTION:
URL:https://colegiomn.cl/event/santa-luisa-de-marillac/
END:VEVENT
BEGIN:VEVENT
DTSTART;TZID=America/Santiago:20250519T080000
DTEND;TZID=America/Santiago:20250519T083000
DTSTAMP:20260424T120033
CREATED:20250318T130419Z
LAST-MODIFIED:20250318T130419Z
UID:5392-1747641600-1747643400@colegiomn.cl
SUMMARY:Oración II° Medio B (Asiste Enseñanza Media)
DESCRIPTION:
URL:https://colegiomn.cl/event/oracion-ii-medio-b-asiste-ensenanza-media/
LOCATION:Colegio Margarita Naseau\, Riquelme #1211\, Tomé
END:VEVENT
BEGIN:VEVENT
DTSTART;TZID=America/Santiago:20250519T140000
DTEND;TZID=America/Santiago:20250519T143000
DTSTAMP:20260424T120033
CREATED:20250318T130517Z
LAST-MODIFIED:20250318T130517Z
UID:5394-1747663200-1747665000@colegiomn.cl
SUMMARY:Oración 3° A
DESCRIPTION:
URL:https://colegiomn.cl/event/oracion-3-a/
LOCATION:Colegio Margarita Naseau\, Riquelme #1211\, Tomé
END:VEVENT
BEGIN:VEVENT
DTSTART;TZID=America/Santiago:20250520T083000
DTEND;TZID=America/Santiago:20250520T093000
DTSTAMP:20260424T120033
CREATED:20250327T151112Z
LAST-MODIFIED:20250327T151112Z
UID:5461-1747729800-1747733400@colegiomn.cl
SUMMARY:Eucaristía 5° Básico B
DESCRIPTION:
URL:https://colegiomn.cl/event/eucaristia-5-basico-b/
LOCATION:Colegio Margarita Naseau\, Riquelme #1211\, Tomé
END:VEVENT
BEGIN:VEVENT
DTSTART;TZID=America/Santiago:20250526T080000
DTEND;TZID=America/Santiago:20250526T083000
DTSTAMP:20260424T120033
CREATED:20250318T131040Z
LAST-MODIFIED:20250318T131040Z
UID:5396-1748246400-1748248200@colegiomn.cl
SUMMARY:Oración 6° B (Asiste 2° ciclo)
DESCRIPTION:
URL:https://colegiomn.cl/event/oracion-6-b-asiste-2-ciclo/
LOCATION:Colegio Margarita Naseau\, Riquelme #1211\, Tomé
END:VEVENT
BEGIN:VEVENT
DTSTART;TZID=America/Santiago:20250526T140000
DTEND;TZID=America/Santiago:20250526T143000
DTSTAMP:20260424T120033
CREATED:20250318T131339Z
LAST-MODIFIED:20250318T131339Z
UID:5398-1748268000-1748269800@colegiomn.cl
SUMMARY:Oración 3° B
DESCRIPTION:
URL:https://colegiomn.cl/event/oracion-3-b-2/
LOCATION:Colegio Margarita Naseau\, Riquelme #1211\, Tomé
END:VEVENT
BEGIN:VEVENT
DTSTART;TZID=America/Santiago:20250527T083000
DTEND;TZID=America/Santiago:20250527T093000
DTSTAMP:20260424T120033
CREATED:20250327T151209Z
LAST-MODIFIED:20250327T151209Z
UID:5463-1748334600-1748338200@colegiomn.cl
SUMMARY:Eucaristía IV° Medio A
DESCRIPTION:
URL:https://colegiomn.cl/event/eucaristia-iv-medio-a/
LOCATION:Colegio Margarita Naseau\, Riquelme #1211\, Tomé
END:VEVENT
BEGIN:VEVENT
DTSTART;TZID=America/Santiago:20250527T180000
DTEND;TZID=America/Santiago:20250527T190000
DTSTAMP:20260424T120033
CREATED:20250318T130059Z
LAST-MODIFIED:20250318T130059Z
UID:5390-1748368800-1748372400@colegiomn.cl
SUMMARY:Salud Mental y Pastoral
DESCRIPTION:
URL:https://colegiomn.cl/event/salud-mental-y-pastoral-3/
LOCATION:Colegio Margarita Naseau\, Riquelme #1211\, Tomé
END:VEVENT
BEGIN:VEVENT
DTSTART;TZID=America/Santiago:20250528T080000
DTEND;TZID=America/Santiago:20250528T130000
DTSTAMP:20260424T120033
CREATED:20250327T152137Z
LAST-MODIFIED:20250327T152137Z
UID:5484-1748419200-1748437200@colegiomn.cl
SUMMARY:Encuentro Vicentino 5° A
DESCRIPTION:
URL:https://colegiomn.cl/event/encuentro-vicentino-5-a/
LOCATION:Hogar Villa Nazareth\, Tomé\, Chile
END:VEVENT
END:VCALENDAR