BEGIN:VCALENDAR
VERSION:2.0
PRODID:-//Colegio Margarita Naseau - ECPv6.0.11//NONSGML v1.0//EN
CALSCALE:GREGORIAN
METHOD:PUBLISH
X-ORIGINAL-URL:https://colegiomn.cl
X-WR-CALDESC:Eventos para Colegio Margarita Naseau
REFRESH-INTERVAL;VALUE=DURATION:PT1H
X-Robots-Tag:noindex
X-PUBLISHED-TTL:PT1H
BEGIN:VTIMEZONE
TZID:America/Santiago
BEGIN:STANDARD
TZOFFSETFROM:-0300
TZOFFSETTO:-0400
TZNAME:-04
DTSTART:20250406T030000
END:STANDARD
BEGIN:DAYLIGHT
TZOFFSETFROM:-0400
TZOFFSETTO:-0300
TZNAME:-03
DTSTART:20250907T040000
END:DAYLIGHT
END:VTIMEZONE
BEGIN:VEVENT
DTSTART;VALUE=DATE:20251105
DTEND;VALUE=DATE:20251107
DTSTAMP:20260422T050513
CREATED:20251117T192434Z
LAST-MODIFIED:20251117T192434Z
UID:6353-1762300800-1762473599@colegiomn.cl
SUMMARY:SIMCE 4° básicos
DESCRIPTION:
URL:https://colegiomn.cl/event/simce-4-basicos-3/
LOCATION:Colegio Margarita Naseau\, Riquelme #1211\, Tomé
END:VEVENT
BEGIN:VEVENT
DTSTART;VALUE=DATE:20251108
DTEND;VALUE=DATE:20251109
DTSTAMP:20260422T050513
CREATED:20250312T180243Z
LAST-MODIFIED:20250312T180243Z
UID:5338-1762560000-1762646399@colegiomn.cl
SUMMARY:Inicio del Mes de María
DESCRIPTION:
URL:https://colegiomn.cl/event/inicio-del-mes-de-maria/
END:VEVENT
BEGIN:VEVENT
DTSTART;VALUE=DATE:20251110
DTEND;VALUE=DATE:20251114
DTSTAMP:20260422T050513
CREATED:20251117T192544Z
LAST-MODIFIED:20251117T192544Z
UID:6357-1762732800-1763078399@colegiomn.cl
SUMMARY:Semana Cuartina
DESCRIPTION:
URL:https://colegiomn.cl/event/semana-cuartina-3/
LOCATION:Colegio Margarita Naseau\, Riquelme #1211\, Tomé
END:VEVENT
BEGIN:VEVENT
DTSTART;VALUE=DATE:20251111
DTEND;VALUE=DATE:20251113
DTSTAMP:20260422T050513
CREATED:20251117T192514Z
LAST-MODIFIED:20251117T192514Z
UID:6355-1762819200-1762991999@colegiomn.cl
SUMMARY:SIMCE II° medios
DESCRIPTION:
URL:https://colegiomn.cl/event/simce-ii-medios-3/
LOCATION:Colegio Margarita Naseau\, Riquelme #1211\, Tomé
END:VEVENT
BEGIN:VEVENT
DTSTART;TZID=America/Santiago:20251119T110000
DTEND;TZID=America/Santiago:20251119T120000
DTSTAMP:20260422T050513
CREATED:20251117T191346Z
LAST-MODIFIED:20251117T191346Z
UID:6331-1763550000-1763553600@colegiomn.cl
SUMMARY:Feria de las Pulgas
DESCRIPTION:
URL:https://colegiomn.cl/event/feria-de-las-pulgas-2/
LOCATION:Colegio Margarita Naseau\, Riquelme #1211\, Tomé
END:VEVENT
BEGIN:VEVENT
DTSTART;TZID=America/Santiago:20251119T190000
DTEND;TZID=America/Santiago:20251119T200000
DTSTAMP:20260422T050513
CREATED:20251117T191204Z
LAST-MODIFIED:20251117T191204Z
UID:6327-1763578800-1763582400@colegiomn.cl
SUMMARY:Reunión de Apoderados Pre-Kínder y 1° Ciclo
DESCRIPTION:
URL:https://colegiomn.cl/event/reunion-de-apoderados-pre-kinder-y-1-ciclo/
LOCATION:Colegio Margarita Naseau\, Riquelme #1211\, Tomé
END:VEVENT
BEGIN:VEVENT
DTSTART;VALUE=DATE:20251120
DTEND;VALUE=DATE:20251121
DTSTAMP:20260422T050513
CREATED:20251117T192617Z
LAST-MODIFIED:20251117T192617Z
UID:6359-1763596800-1763683199@colegiomn.cl
SUMMARY:Día de la Educación Parvularia
DESCRIPTION:
URL:https://colegiomn.cl/event/dia-de-la-educacion-parvularia-2/
END:VEVENT
BEGIN:VEVENT
DTSTART;VALUE=DATE:20251120
DTEND;VALUE=DATE:20251121
DTSTAMP:20260422T050513
CREATED:20251117T192643Z
LAST-MODIFIED:20251117T192643Z
UID:6361-1763596800-1763683199@colegiomn.cl
SUMMARY:Día de la Filosofía
DESCRIPTION:
URL:https://colegiomn.cl/event/dia-de-la-filosofia/
LOCATION:Colegio Margarita Naseau\, Riquelme #1211\, Tomé
END:VEVENT
BEGIN:VEVENT
DTSTART;TZID=America/Santiago:20251120T190000
DTEND;TZID=America/Santiago:20251120T200000
DTSTAMP:20260422T050513
CREATED:20251117T191258Z
LAST-MODIFIED:20251117T191258Z
UID:6329-1763665200-1763668800@colegiomn.cl
SUMMARY:Reunión de Apoderados 2° Ciclo y Ens. Media
DESCRIPTION:
URL:https://colegiomn.cl/event/reunion-de-apoderados-2-ciclo-y-ens-media-2/
LOCATION:Colegio Margarita Naseau\, Riquelme #1211\, Tomé
END:VEVENT
BEGIN:VEVENT
DTSTART;TZID=America/Santiago:20251121T090000
DTEND;TZID=America/Santiago:20251121T120000
DTSTAMP:20260422T050513
CREATED:20251117T191457Z
LAST-MODIFIED:20251117T191457Z
UID:6333-1763715600-1763726400@colegiomn.cl
SUMMARY:Licenciatura IV años medios
DESCRIPTION:
URL:https://colegiomn.cl/event/licenciatura-iv-anos-medios/
END:VEVENT
BEGIN:VEVENT
DTSTART;VALUE=DATE:20251125
DTEND;VALUE=DATE:20251126
DTSTAMP:20260422T050513
CREATED:20251117T191549Z
LAST-MODIFIED:20251117T191549Z
UID:6335-1764028800-1764115199@colegiomn.cl
SUMMARY:Eucaristía Medalla Milagrosa
DESCRIPTION:
URL:https://colegiomn.cl/event/eucaristia-medalla-milagrosa-2/
LOCATION:Colegio Margarita Naseau\, Riquelme #1211\, Tomé
END:VEVENT
BEGIN:VEVENT
DTSTART;TZID=America/Santiago:20251125T180000
DTEND;TZID=America/Santiago:20251125T190000
DTSTAMP:20260422T050513
CREATED:20251117T191619Z
LAST-MODIFIED:20251117T191619Z
UID:6337-1764093600-1764097200@colegiomn.cl
SUMMARY:Salud Mental y Pastoral
DESCRIPTION:
URL:https://colegiomn.cl/event/salud-mental-y-pastoral-7/
LOCATION:Colegio Margarita Naseau\, Riquelme #1211\, Tomé
END:VEVENT
BEGIN:VEVENT
DTSTART;VALUE=DATE:20251127
DTEND;VALUE=DATE:20251128
DTSTAMP:20260422T050513
CREATED:20250312T180418Z
LAST-MODIFIED:20250312T180418Z
UID:5340-1764201600-1764287999@colegiomn.cl
SUMMARY:Medalla Milagrosa
DESCRIPTION:
URL:https://colegiomn.cl/event/medalla-milagrosa/
END:VEVENT
BEGIN:VEVENT
DTSTART;VALUE=DATE:20251128
DTEND;VALUE=DATE:20251129
DTSTAMP:20260422T050513
CREATED:20250312T180446Z
LAST-MODIFIED:20250312T180446Z
UID:5342-1764288000-1764374399@colegiomn.cl
SUMMARY:Santa Catalina Labouré
DESCRIPTION:
URL:https://colegiomn.cl/event/santa-catalina-laboure/
END:VEVENT
END:VCALENDAR