BEGIN:VCALENDAR
VERSION:2.0
PRODID:-//Colegio Margarita Naseau - ECPv6.0.11//NONSGML v1.0//EN
CALSCALE:GREGORIAN
METHOD:PUBLISH
X-WR-CALNAME:Colegio Margarita Naseau
X-ORIGINAL-URL:https://colegiomn.cl
X-WR-CALDESC:Eventos para Colegio Margarita Naseau
REFRESH-INTERVAL;VALUE=DURATION:PT1H
X-Robots-Tag:noindex
X-PUBLISHED-TTL:PT1H
BEGIN:VTIMEZONE
TZID:America/Santiago
BEGIN:STANDARD
TZOFFSETFROM:-0300
TZOFFSETTO:-0400
TZNAME:-04
DTSTART:20250406T030000
END:STANDARD
BEGIN:DAYLIGHT
TZOFFSETFROM:-0400
TZOFFSETTO:-0300
TZNAME:-03
DTSTART:20250907T040000
END:DAYLIGHT
END:VTIMEZONE
BEGIN:VEVENT
DTSTART;TZID=America/Santiago:20251202T170000
DTEND;TZID=America/Santiago:20251202T190000
DTSTAMP:20260422T031504
CREATED:20251117T191732Z
LAST-MODIFIED:20251117T191732Z
UID:6339-1764694800-1764702000@colegiomn.cl
SUMMARY:Día de la Inclusión
DESCRIPTION:
URL:https://colegiomn.cl/event/dia-de-la-inclusion/
LOCATION:Colegio Margarita Naseau\, Riquelme #1211\, Tomé
END:VEVENT
BEGIN:VEVENT
DTSTART;VALUE=DATE:20251204
DTEND;VALUE=DATE:20251205
DTSTAMP:20260422T031504
CREATED:20251117T191800Z
LAST-MODIFIED:20251117T191800Z
UID:6341-1764806400-1764892799@colegiomn.cl
SUMMARY:Consejo Escolar
DESCRIPTION:
URL:https://colegiomn.cl/event/consejo-escolar-6/
LOCATION:Colegio Margarita Naseau\, Riquelme #1211\, Tomé
END:VEVENT
BEGIN:VEVENT
DTSTART;TZID=America/Santiago:20251216T093000
DTEND;TZID=America/Santiago:20251216T120000
DTSTAMP:20260422T031504
CREATED:20251117T192121Z
LAST-MODIFIED:20251117T192121Z
UID:6345-1765877400-1765886400@colegiomn.cl
SUMMARY:Eucaristía 8° años y entrega de licencias
DESCRIPTION:
URL:https://colegiomn.cl/event/eucaristia-8-anos-y-entrega-de-licencias/
LOCATION:Colegio Margarita Naseau\, Riquelme #1211\, Tomé
END:VEVENT
BEGIN:VEVENT
DTSTART;TZID=America/Santiago:20251218T093000
DTEND;TZID=America/Santiago:20251218T233000
DTSTAMP:20260422T031504
CREATED:20251117T192210Z
LAST-MODIFIED:20251117T192210Z
UID:6347-1766050200-1766100600@colegiomn.cl
SUMMARY:Ceremonia de Premiación
DESCRIPTION:
URL:https://colegiomn.cl/event/ceremonia-de-premiacion-2/
LOCATION:Colegio Margarita Naseau\, Riquelme #1211\, Tomé
END:VEVENT
BEGIN:VEVENT
DTSTART;VALUE=DATE:20251223
DTEND;VALUE=DATE:20251224
DTSTAMP:20260422T031504
CREATED:20251117T192247Z
LAST-MODIFIED:20251117T192247Z
UID:6349-1766448000-1766534399@colegiomn.cl
SUMMARY:Saludo Navideño
DESCRIPTION:
URL:https://colegiomn.cl/event/saludo-navideno-3/
END:VEVENT
BEGIN:VEVENT
DTSTART;VALUE=DATE:20251229
DTEND;VALUE=DATE:20251230
DTSTAMP:20260422T031504
CREATED:20251117T192015Z
LAST-MODIFIED:20251117T192015Z
UID:6343-1766966400-1767052799@colegiomn.cl
SUMMARY:Matrícula Alumnos Antiguos
DESCRIPTION:
URL:https://colegiomn.cl/event/matricula-alumnos-antiguos/
LOCATION:Colegio Margarita Naseau\, Riquelme #1211\, Tomé
END:VEVENT
BEGIN:VEVENT
DTSTART;VALUE=DATE:20251230
DTEND;VALUE=DATE:20251231
DTSTAMP:20260422T031504
CREATED:20251117T192321Z
LAST-MODIFIED:20251117T192321Z
UID:6351-1767052800-1767139199@colegiomn.cl
SUMMARY:Consejo Final
DESCRIPTION:
URL:https://colegiomn.cl/event/consejo-final-2/
LOCATION:Colegio Margarita Naseau\, Riquelme #1211\, Tomé
END:VEVENT
END:VCALENDAR