BEGIN:VCALENDAR
VERSION:2.0
PRODID:-//Colegio Margarita Naseau - ECPv6.0.11//NONSGML v1.0//EN
CALSCALE:GREGORIAN
METHOD:PUBLISH
X-ORIGINAL-URL:https://colegiomn.cl
X-WR-CALDESC:Eventos para Colegio Margarita Naseau
REFRESH-INTERVAL;VALUE=DURATION:PT1H
X-Robots-Tag:noindex
X-PUBLISHED-TTL:PT1H
BEGIN:VTIMEZONE
TZID:America/Santiago
BEGIN:STANDARD
TZOFFSETFROM:-0300
TZOFFSETTO:-0400
TZNAME:-04
DTSTART:20260405T030000
END:STANDARD
BEGIN:DAYLIGHT
TZOFFSETFROM:-0400
TZOFFSETTO:-0300
TZNAME:-03
DTSTART:20260906T040000
END:DAYLIGHT
END:VTIMEZONE
BEGIN:VEVENT
DTSTART;TZID=America/Santiago:20260312T100000
DTEND;TZID=America/Santiago:20260312T110000
DTSTAMP:20260421T220342
CREATED:20260305T133947Z
LAST-MODIFIED:20260305T133947Z
UID:6494-1773309600-1773313200@colegiomn.cl
SUMMARY:Eucaristía Inicio de Año Escolar 2026
DESCRIPTION:
URL:https://colegiomn.cl/event/eucaristia-inicio-de-ano-escolar-2026/
LOCATION:Colegio Margarita Naseau\, Riquelme #1211\, Tomé
END:VEVENT
BEGIN:VEVENT
DTSTART;TZID=America/Santiago:20260331T180000
DTEND;TZID=America/Santiago:20260331T190000
DTSTAMP:20260421T220342
CREATED:20260309T120835Z
LAST-MODIFIED:20260309T120835Z
UID:6499-1774980000-1774983600@colegiomn.cl
SUMMARY:Pastoral y Autocuidado
DESCRIPTION:
URL:https://colegiomn.cl/event/pastoral-y-autocuidado/
LOCATION:Colegio Margarita Naseau\, Riquelme #1211\, Tomé
END:VEVENT
END:VCALENDAR